BEGIN:VCALENDAR
VERSION:2.0
PRODID:-//wp-events-plugin.com//7.2.3.1//EN
TZID:Europe/Amsterdam
X-WR-TIMEZONE:Europe/Amsterdam
BEGIN:VEVENT
UID:206@filmhuisschoorl.nl
DTSTART;TZID=Europe/Amsterdam:20260424T200000
DTEND;TZID=Europe/Amsterdam:20260424T220000
DTSTAMP:20260307T092246Z
URL:https://filmhuisschoorl.nl/voorstellingen/roofman/
SUMMARY:Roofman
DESCRIPTION:Uiterst charmante tragikomedie over wat er in het leven toe doe
 t  
ATTACH;FMTTYPE=image/jpeg:https://filmhuisschoorl.nl/wp-content/uploads/20
 26/03/slide-roofman.jpg
CATEGORIES:Openbaar,Pauze
LOCATION:Dorpscentrum De Blinkerd\, Heereweg 150\, Schoorl\, Nederland
X-APPLE-STRUCTURED-LOCATION;VALUE=URI;X-ADDRESS=Heereweg 150\, Schoorl\, Ne
 derland;X-APPLE-RADIUS=100;X-TITLE=Dorpscentrum De Blinkerd:geo:0,0
END:VEVENT
BEGIN:VTIMEZONE
TZID:Europe/Amsterdam
X-LIC-LOCATION:Europe/Amsterdam
BEGIN:DAYLIGHT
DTSTART:20260329T030000
TZOFFSETFROM:+0100
TZOFFSETTO:+0200
TZNAME:CEST
END:DAYLIGHT
END:VTIMEZONE
END:VCALENDAR